Workbook

Sheet Retail Media Investment Case
B2: RETAIL MEDIA INVESTMENT CASE
B8: DATA ASSET VALUATION | F8: RETAIL MEDIA INVENTORY: IMPRESSIONS | O8: RETAIL MEDIA INVENTORY VALUE | U8: RETAIL MEDIA PROJECTED SALES | AB8: OPERATING PROFIT FROM RETAIL MEDIA | AI8: BALANCE PROJECTION
G9: =IFERROR(VLOOKUP(2025, $E:$E, 1, FALSE), "") | H9: =IFERROR(VLOOKUP(2026, $E:$E, 1, FALSE), "") -> 2026 | I9: =IFERROR(VLOOKUP(2027, $E:$E, 1, FALSE), "") -> 2027 | J9: =IFERROR(VLOOKUP(2028, $E:$E, 1, FALSE), "") -> 2028 | K9: =IFERROR(VLOOKUP(2029, $E:$E, 1, FALSE), "") | O9: =G9 | P9: =H9 -> 2026 | Q9: =I9 -> 2027 | R9: =J9 -> 2028 | S9: =K9 | U9: =G9 | V9: =H9 -> 2026 | W9: =I9 -> 2027 | X9: =J9 -> 2028 | Y9: =K9 | AB9: =G9 | AC9: =H9 -> 2026 | AD9: =I9 -> 2027 | AE9: =J9 -> 2028 | AF9: =K9 | AI9: =G9 | AK9: =H9 -> 2026 | AM9: =I9 -> 2027 | AO9: =J9 -> 2028 | AP9: =K9
B10: =Variables!B3*AE10 -> 688977.87 | G10: =IF(LEN(G9)=0, "", SUMIFS($L$15:$L$1048576, $E$15:$E$1048576, G9)) | H10: =IF(LEN(H9)=0, "", SUMIFS($L$15:$L$1048576, $E$15:$E$1048576, H9)) -> 27650928 | I10: =IF(LEN(I9)=0, "", SUMIFS($L$15:$L$1048576, $E$15:$E$1048576, I9)) -> 29356377 | J10: =IF(LEN(J9)=0, "", SUMIFS($L$15:$L$1048576, $E$15:$E$1048576, J9)) -> 31167014 | K10: =IF(LEN(K9)=0, "", SUMIFS($L$15:$L$1048576, $E$15:$E$1048576, K9)) | O10: =IF(LEN(O9)=0, "", SUMIFS($R$15:$R$1048576, $E$15:$E$1048576, O9)) | P10: =IF(LEN(P9)=0, "", SUMIFS($R$15:$R$1048576, $E$15:$E$1048576, P9)) -> 299461.76 | Q10: =IF(LEN(Q9)=0, "", SUMIFS($R$15:$R$1048576, $E$15:$E$1048576, Q9)) -> 317931.91 | R10: =IF(LEN(R9)=0, "", SUMIFS($R$15:$R$1048576, $E$15:$E$1048576, R9)) -> 337541.25 | S10: =IF(LEN(S9)=0, "", SUMIFS($R$15:$R$1048576, $E$15:$E$1048576, S9)) | U10: =IF(LEN(U9)=0, "", SUMIFS($Y$15:$Y$1048576, $E$15:$E$1048576, U9)) | V10: =IF(LEN(V9)=0, "", SUMIFS($Y$15:$Y$1048576, $E$15:$E$1048576, V9)) -> 31621.459 | W10: =IF(LEN(W9)=0, "", SUMIFS($Y$15:$Y$1048576, $E$15:$E$1048576, W9)) -> 71723.631 | X10: =IF(LEN(X9)=0, "", SUMIFS($Y$15:$Y$1048576, $E$15:$E$1048576, X9)) -> 116652.34 | Y10: =IF(LEN(Y9)=0, "", SUMIFS($Y$15:$Y$1048576, $E$15:$E$1048576, Y9)) | AB10: =IF(LEN(AB9)=0, "", SUMIFS($AF$15:$AF$1048576, $E$15:$E$1048576, AB9)) | AC10: =IF(LEN(AC9)=0, "", SUMIFS($AF$15:$AF$1048576, $E$15:$E$1048576, AC9)) -> 17787.071 | AD10: =IF(LEN(AD9)=0, "", SUMIFS($AF$15:$AF$1048576, $E$15:$E$1048576, AD9)) -> 40344.542 | AE10: =IF(LEN(AE9)=0, "", SUMIFS($AF$15:$AF$1048576, $E$15:$E$1048576, AE9)) -> 65616.94 | AF10: =IF(LEN(AF9)=0, "", SUMIFS($AF$15:$AF$1048576, $E$15:$E$1048576, AF9)) | AI10: =IF(LEN(AI9)=0, "", SUMIFS($AO$15:$AO$1048576, $E$15:$E$1048576, AI9)) | AK10: =IF(LEN(AK9)=0, "", SUMIFS($AO$15:$AO$1048576, $E$15:$E$1048576, AK9)) -> -38717.833 | AM10: =IF(LEN(AM9)=0, "", SUMIFS($AO$15:$AO$1048576, $E$15:$E$1048576, AM9)) -> -14816.874 | AO10: =IF(LEN(AO9)=0, "", SUMIFS($AO$15:$AO$1048576, $E$15:$E$1048576, AO9)) -> -17735.747 | AP10: =IF(LEN(AP9)=0, "", SUMIFS($AO$15:$AO$1048576, $E$15:$E$1048576, AP9))
B12: Year / Month | F12: MONTHY REACH UNIQUE | I12: POTENTIAL IMPRESSIONS: IN-STORE | J12: POTENTIAL IMPRESSIONS: ON-SITE | K12: POTENTIAL IMPRESSIONS: OFF-SITE | L12: TOTAL POTENTIAL IMPRESSIONS | M12: Evolution | O12: POTENTIAL MEDIA VALUE | R12: TOTAL POTENTIAL VALUE | S12: Evolution | U12: Velocity | V12: Sales/Month IN-STORE | W12: Sales/Month ON-SITE | X12: Sales / Month OFF-SITE | Y12: TOTAL PROJECTED SALES | Z12: Evolution | AB12: Commisions to Media Agency: 20% - applied to approx. 50% of total revenues | AC12: Cost of Sales: 10% off Gross Sales after Commisions (5% if Lead Gen by Commercial Dep) | AD12: Cost of Campaign Management: 5% off Gross Sales excl. Rebates | AE12: Cost of Platform: 25% off Gross Sales excl. Rebates | AF12: OPERATING PROFIT | AG12: Evolution | AI12: SOFTWARE SETUP & INTEGRATIONS | AJ12: CLOUD & PROCESSING COSTS | AK12: FTE CONSUMPTION: COMMERCIAL | AL12: FTE CONSUMPTION: MARKETING | AM12: FTE CONSUMPTION: IT & DIGITAL | AN12: MEDIA INFRASTRUCTURE INVESTMENT | AO12: BALANCE | AP12: Evolution
F13: IN-STORE: Digital Screens, In-Store Radio | G13: ON-SITE: Website, Mobile App | H13: OFF-SITE: Social Media, Direct Comms | O13: =F13 -> IN-STORE: Digital Screens, In-Store Radio | P13: =G13 -> ON-SITE: Website, Mobile App | Q13: =H13 -> OFF-SITE: Social Media, Direct Comms
O14: =Variables!B11 -> 16 | P14: =Variables!B12 -> 12 | Q14: =Variables!B13 -> 8 | V14: % Total Potential Sales
C15: =DATE(YEAR(Variables!B31),MONTH(Variables!B31),DAY(Variables!B31)) -> 46023 | D15: =IFERROR(IF(ISNUMBER(E15),0,1),"") -> 0 | E15: =IFERROR(YEAR(C15),"") -> 2026 | F15: =Variables!B4 -> 263196 | G15: =Variables!B5 -> 3387 | H15: =Variables!B6 -> 144520 | I15: =IFERROR((F15*Variables!$B$8),"") -> 789588 | J15: =IFERROR((G15*Variables!$B$9),"") -> 6774 | K15: =IFERROR((H15*Variables!$B$10),"") -> 1445200 | L15: =IFERROR(SUM(I15:K15),"") -> 2241562 | O15: =IFERROR(I15/1000*$O$14,"") -> 12633.408 | P15: =IFERROR(J15/1000*$P$14,"") -> 81.288 | Q15: =IFERROR(K15/1000*$Q$14,"") -> 11561.6 | R15: =SUM(O15:Q15) -> 24276.296 | U15: =IFERROR(Variables!B14,"") -> 0.05 | V15: =IFERROR(O15*U15,"") -> 631.6704 | W15: =IFERROR(P15*U15,"") -> 4.0644 | X15: =IFERROR(Q15*U15,"") -> 578.08 | Y15: =SUM(V15:X15) -> 1213.8148 | AB15: =-Y15*Variables!$B$16 -> -121.38148 | AC15: =-SUM(Y15,AB15)*Variables!$B$17 -> -81.932499 | AD15: =-SUM(Y15,AB15)*Variables!$B$18 -> -54.621666 | AE15: =-SUM(Y15,AB15)*0.25 -> -273.10833 | AF15: =Y15+SUM(AB15:AE15) -> 682.77083 | AI15: =-Variables!B20 -> -20000 | AJ15: =-Variables!B21 -> -2500 | AK15: =Variables!B23 -> 0 | AL15: =Variables!B25 -> 0 | AM15: =Variables!B27 -> 0 | AN15: =Variables!B29 -> 0 | AO15: =IFERROR(AF15+(SUM(AI15:AN15)),0) -> -21817.229
C16: =IF(C15<EDATE(Variables!B$31,Variables!B$32-1),EDATE(C15,1),"") -> 46054 | D16: =IFERROR(IF(ISNUMBER(E16),0,1),"") -> 0 | E16: =IFERROR(YEAR(C16),"") -> 2026 | F16: =IF(D16=0,F15*Variables!$B$7,"") -> 264511.98 | G16: =IF(D16=0,G15*Variables!$B$7,"") -> 3403.935 | H16: =IF(D16=0,H15*Variables!$B$7,"") -> 145242.6 | I16: =IFERROR((F16*Variables!$B$8),"") -> 793535.94 | J16: =IFERROR((G16*Variables!$B$9),"") -> 6807.87 | K16: =IFERROR((H16*Variables!$B$10),"") -> 1452426 | L16: =IFERROR(SUM(I16:K16),"") -> 2252769.8 | O16: =IFERROR(I16/1000*$O$14,"") -> 12696.575 | P16: =IFERROR(J16/1000*$P$14,"") -> 81.69444 | Q16: =IFERROR(K16/1000*$Q$14,"") -> 11619.408 | R16: =SUM(O16:Q16) -> 24397.677 | U16: =IFERROR(U15+Variables!$B$15,"") -> 0.06 | V16: =IFERROR(O16*U16,"") -> 761.7945 | W16: =IFERROR(P16*U16,"") -> 4.9016664 | X16: =IFERROR(Q16*U16,"") -> 697.16448 | Y16: =SUM(V16:X16) -> 1463.8606 | AB16: =-Y16*Variables!$B$16 -> -146.38606 | AC16: =-SUM(Y16,AB16)*Variables!$B$17 -> -98.810594 | AD16: =-SUM(Y16,AB16)*Variables!$B$18 -> -65.873729 | AE16: =-SUM(Y16,AB16)*0.25 -> -329.36865 | AF16: =Y16+SUM(AB16:AE16) -> 823.42161 | AI16: 0 | AJ16: =IF(D16=0,AJ15*Variables!$B$22,"") -> -2587.5 | AK16: =IF(D16=0,AK15*Variables!$B$24,"") -> 0 | AL16: =IF(D16=0,AL15*Variables!$B$26,"") -> 0 | AM16: =IF(D16=0,AM15*Variables!$B$28,"") -> 0 | AN16: =IF(D16=0,AN15+Variables!$B$30,"") -> 0 | AO16: =IFERROR(AF16+(SUM(AI16:AN16)),0) -> -1764.0784
C17: =IF(C16<EDATE(Variables!B$31,Variables!B$32-1),EDATE(C16,1),"") -> 46082 | D17: =IFERROR(IF(ISNUMBER(E17),0,1),"") -> 0 | E17: =IFERROR(YEAR(C17),"") -> 2026 | F17: =IF(D17=0,F16*Variables!$B$7,"") -> 265834.54 | G17: =IF(D17=0,G16*Variables!$B$7,"") -> 3420.9547 | H17: =IF(D17=0,H16*Variables!$B$7,"") -> 145968.81 | I17: =IFERROR((F17*Variables!$B$8),"") -> 797503.62 | J17: =IFERROR((G17*Variables!$B$9),"") -> 6841.9093 | K17: =IFERROR((H17*Variables!$B$10),"") -> 1459688.1 | L17: =IFERROR(SUM(I17:K17),"") -> 2264033.7 | O17: =IFERROR(I17/1000*$O$14,"") -> 12760.058 | P17: =IFERROR(J17/1000*$P$14,"") -> 82.102912 | Q17: =IFERROR(K17/1000*$Q$14,"") -> 11677.505 | R17: =SUM(O17:Q17) -> 24519.666 | U17: =IFERROR(U16+Variables!$B$15,"") -> 0.07 | V17: =IFERROR(O17*U17,"") -> 893.20405 | W17: =IFERROR(P17*U17,"") -> 5.7472039 | X17: =IFERROR(Q17*U17,"") -> 817.42535 | Y17: =SUM(V17:X17) -> 1716.3766 | AB17: =-Y17*Variables!$B$16 -> -171.63766 | AC17: =-SUM(Y17,AB17)*Variables!$B$17 -> -115.85542 | AD17: =-SUM(Y17,AB17)*Variables!$B$18 -> -77.236947 | AE17: =-SUM(Y17,AB17)*0.25 -> -386.18474 | AF17: =Y17+SUM(AB17:AE17) -> 965.46184 | AI17: 0 | AJ17: =IF(D17=0,AJ16*Variables!$B$22,"") -> -2678.0625 | AK17: =IF(D17=0,AK16*Variables!$B$24,"") -> 0 | AL17: =IF(D17=0,AL16*Variables!$B$26,"") -> 0 | AM17: =IF(D17=0,AM16*Variables!$B$28,"") -> 0 | AN17: =IF(D17=0,AN16+Variables!$B$30,"") -> 0 | AO17: =IFERROR(AF17+(SUM(AI17:AN17)),0) -> -1712.6007
C18: =IF(C17<EDATE(Variables!B$31,Variables!B$32-1),EDATE(C17,1),"") -> 46113 | D18: =IFERROR(IF(ISNUMBER(E18),0,1),"") -> 0 | E18: =IFERROR(YEAR(C18),"") -> 2026 | F18: =IF(D18=0,F17*Variables!$B$7,"") -> 267163.71 | G18: =IF(D18=0,G17*Variables!$B$7,"") -> 3438.0594 | H18: =IF(D18=0,H17*Variables!$B$7,"") -> 146698.66 | I18: =IFERROR((F18*Variables!$B$8),"") -> 801491.14 | J18: =IFERROR((G18*Variables!$B$9),"") -> 6876.1189 | K18: =IFERROR((H18*Variables!$B$10),"") -> 1466986.6 | L18: =IFERROR(SUM(I18:K18),"") -> 2275353.8 | O18: =IFERROR(I18/1000*$O$14,"") -> 12823.858 | P18: =IFERROR(J18/1000*$P$14,"") -> 82.513427 | Q18: =IFERROR(K18/1000*$Q$14,"") -> 11735.893 | R18: =SUM(O18:Q18) -> 24642.264 | U18: =IFERROR(U17+Variables!$B$15,"") -> 0.08 | V18: =IFERROR(O18*U18,"") -> 1025.9087 | W18: =IFERROR(P18*U18,"") -> 6.6010741 | X18: =IFERROR(Q18*U18,"") -> 938.87141 | Y18: =SUM(V18:X18) -> 1971.3811 | AB18: =-Y18*Variables!$B$16 -> -197.13811 | AC18: =-SUM(Y18,AB18)*Variables!$B$17 -> -133.06823 | AD18: =-SUM(Y18,AB18)*Variables!$B$18 -> -88.712151 | AE18: =-SUM(Y18,AB18)*0.25 -> -443.56076 | AF18: =Y18+SUM(AB18:AE18) -> 1108.9019 | AI18: 0 | AJ18: =IF(D18=0,AJ17*Variables!$B$22,"") -> -2771.7947 | AK18: =IF(D18=0,AK17*Variables!$B$24,"") -> 0 | AL18: =IF(D18=0,AL17*Variables!$B$26,"") -> 0 | AM18: =IF(D18=0,AM17*Variables!$B$28,"") -> 0 | AN18: =IF(D18=0,AN17+Variables!$B$30,"") -> 0 | AO18: =IFERROR(AF18+(SUM(AI18:AN18)),0) -> -1662.8928
C19: =IF(C18<EDATE(Variables!B$31,Variables!B$32-1),EDATE(C18,1),"") -> 46143 | D19: =IFERROR(IF(ISNUMBER(E19),0,1),"") -> 0 | E19: =IFERROR(YEAR(C19),"") -> 2026 | F19: =IF(D19=0,F18*Variables!$B$7,"") -> 268499.53 | G19: =IF(D19=0,G18*Variables!$B$7,"") -> 3455.2497 | H19: =IF(D19=0,H18*Variables!$B$7,"") -> 147432.15 | I19: =IFERROR((F19*Variables!$B$8),"") -> 805498.59 | J19: =IFERROR((G19*Variables!$B$9),"") -> 6910.4995 | K19: =IFERROR((H19*Variables!$B$10),"") -> 1474321.5 | L19: =IFERROR(SUM(I19:K19),"") -> 2286730.6 | O19: =IFERROR(I19/1000*$O$14,"") -> 12887.977 | P19: =IFERROR(J19/1000*$P$14,"") -> 82.925994 | Q19: =IFERROR(K19/1000*$Q$14,"") -> 11794.572 | R19: =SUM(O19:Q19) -> 24765.476 | U19: =IFERROR(U18+Variables!$B$15,"") -> 0.09 | V19: =IFERROR(O19*U19,"") -> 1159.918 | W19: =IFERROR(P19*U19,"") -> 7.4633395 | X19: =IFERROR(Q19*U19,"") -> 1061.5115 | Y19: =SUM(V19:X19) -> 2228.8928 | AB19: =-Y19*Variables!$B$16 -> -222.88928 | AC19: =-SUM(Y19,AB19)*Variables!$B$17 -> -150.45026 | AD19: =-SUM(Y19,AB19)*Variables!$B$18 -> -100.30018 | AE19: =-SUM(Y19,AB19)*0.25 -> -501.50088 | AF19: =Y19+SUM(AB19:AE19) -> 1253.7522 | AI19: 0 | AJ19: =IF(D19=0,AJ18*Variables!$B$22,"") -> -2868.8075 | AK19: =IF(D19=0,AK18*Variables!$B$24,"") -> 0 | AL19: =IF(D19=0,AL18*Variables!$B$26,"") -> 0 | AM19: =IF(D19=0,AM18*Variables!$B$28,"") -> 0 | AN19: =IF(D19=0,AN18+Variables!$B$30,"") -> 0 | AO19: =IFERROR(AF19+(SUM(AI19:AN19)),0) -> -1615.0553
C20: =IF(C19<EDATE(Variables!B$31,Variables!B$32-1),EDATE(C19,1),"") -> 46174 | D20: =IFERROR(IF(ISNUMBER(E20),0,1),"") -> 0 | E20: =IFERROR(YEAR(C20),"") -> 2026 | F20: =IF(D20=0,F19*Variables!$B$7,"") -> 269842.03 | G20: =IF(D20=0,G19*Variables!$B$7,"") -> 3472.526 | H20: =IF(D20=0,H19*Variables!$B$7,"") -> 148169.31 | I20: =IFERROR((F20*Variables!$B$8),"") -> 809526.09 | J20: =IFERROR((G20*Variables!$B$9),"") -> 6945.052 | K20: =IFERROR((H20*Variables!$B$10),"") -> 1481693.1 | L20: =IFERROR(SUM(I20:K20),"") -> 2298164.2 | O20: =IFERROR(I20/1000*$O$14,"") -> 12952.417 | P20: =IFERROR(J20/1000*$P$14,"") -> 83.340624 | Q20: =IFERROR(K20/1000*$Q$14,"") -> 11853.545 | R20: =SUM(O20:Q20) -> 24889.303 | U20: =IFERROR(U19+Variables!$B$15,"") -> 0.1 | V20: =IFERROR(O20*U20,"") -> 1295.2417 | W20: =IFERROR(P20*U20,"") -> 8.3340624 | X20: =IFERROR(Q20*U20,"") -> 1185.3545 | Y20: =SUM(V20:X20) -> 2488.9303 | AB20: =-Y20*Variables!$B$16 -> -248.89303 | AC20: =-SUM(Y20,AB20)*Variables!$B$17 -> -168.00279 | AD20: =-SUM(Y20,AB20)*Variables!$B$18 -> -112.00186 | AE20: =-SUM(Y20,AB20)*0.25 -> -560.00932 | AF20: =Y20+SUM(AB20:AE20) -> 1400.0233 | AI20: 0 | AJ20: =IF(D20=0,AJ19*Variables!$B$22,"") -> -2969.2158 | AK20: =IF(D20=0,AK19*Variables!$B$24,"") -> 0 | AL20: =IF(D20=0,AL19*Variables!$B$26,"") -> 0 | AM20: =IF(D20=0,AM19*Variables!$B$28,"") -> 0 | AN20: =IF(D20=0,AN19+Variables!$B$30,"") -> 0 | AO20: =IFERROR(AF20+(SUM(AI20:AN20)),0) -> -1569.1925
C21: =IF(C20<EDATE(Variables!B$31,Variables!B$32-1),EDATE(C20,1),"") -> 46204 | D21: =IFERROR(IF(ISNUMBER(E21),0,1),"") -> 0 | E21: =IFERROR(YEAR(C21),"") -> 2026 | F21: =IF(D21=0,F20*Variables!$B$7,"") -> 271191.24 | G21: =IF(D21=0,G20*Variables!$B$7,"") -> 3489.8886 | H21: =IF(D21=0,H20*Variables!$B$7,"") -> 148910.16 | I21: =IFERROR((F21*Variables!$B$8),"") -> 813573.72 | J21: =IFERROR((G21*Variables!$B$9),"") -> 6979.7772 | K21: =IFERROR((H21*Variables!$B$10),"") -> 1489101.6 | L21: =IFERROR(SUM(I21:K21),"") -> 2309655.1 | O21: =IFERROR(I21/1000*$O$14,"") -> 13017.179 | P21: =IFERROR(J21/1000*$P$14,"") -> 83.757327 | Q21: =IFERROR(K21/1000*$Q$14,"") -> 11912.813 | R21: =SUM(O21:Q21) -> 25013.749 | U21: =IFERROR(U20+Variables!$B$15,"") -> 0.11 | V21: =IFERROR(O21*U21,"") -> 1431.8897 | W21: =IFERROR(P21*U21,"") -> 9.213306 | X21: =IFERROR(Q21*U21,"") -> 1310.4094 | Y21: =SUM(V21:X21) -> 2751.5124 | AB21: =-Y21*Variables!$B$16 -> -275.15124 | AC21: =-SUM(Y21,AB21)*Variables!$B$17 -> -185.72709 | AD21: =-SUM(Y21,AB21)*Variables!$B$18 -> -123.81806 | AE21: =-SUM(Y21,AB21)*0.25 -> -619.0903 | AF21: =Y21+SUM(AB21:AE21) -> 1547.7257 | AI21: 0 | AJ21: =IF(D21=0,AJ20*Variables!$B$22,"") -> -3073.1383 | AK21: =IF(D21=0,AK20*Variables!$B$24,"") -> 0 | AL21: =IF(D21=0,AL20*Variables!$B$26,"") -> 0 | AM21: =IF(D21=0,AM20*Variables!$B$28,"") -> 0 | AN21: =IF(D21=0,AN20+Variables!$B$30,"") -> 0 | AO21: =IFERROR(AF21+(SUM(AI21:AN21)),0) -> -1525.4126
C22: =IF(C21<EDATE(Variables!B$31,Variables!B$32-1),EDATE(C21,1),"") -> 46235 | D22: =IFERROR(IF(ISNUMBER(E22),0,1),"") -> 0 | E22: =IFERROR(YEAR(C22),"") -> 2026 | F22: =IF(D22=0,F21*Variables!$B$7,"") -> 272547.2 | G22: =IF(D22=0,G21*Variables!$B$7,"") -> 3507.3381 | H22: =IF(D22=0,H21*Variables!$B$7,"") -> 149654.71 | I22: =IFERROR((F22*Variables!$B$8),"") -> 817641.59 | J22: =IFERROR((G22*Variables!$B$9),"") -> 7014.6761 | K22: =IFERROR((H22*Variables!$B$10),"") -> 1496547.1 | L22: =IFERROR(SUM(I22:K22),"") -> 2321203.3 | O22: =IFERROR(I22/1000*$O$14,"") -> 13082.265 | P22: =IFERROR(J22/1000*$P$14,"") -> 84.176114 | Q22: =IFERROR(K22/1000*$Q$14,"") -> 11972.377 | R22: =SUM(O22:Q22) -> 25138.818 | U22: =IFERROR(U21+Variables!$B$15,"") -> 0.12 | V22: =IFERROR(O22*U22,"") -> 1569.8718 | W22: =IFERROR(P22*U22,"") -> 10.101134 | X22: =IFERROR(Q22*U22,"") -> 1436.6852 | Y22: =SUM(V22:X22) -> 3016.6582 | AB22: =-Y22*Variables!$B$16 -> -301.66582 | AC22: =-SUM(Y22,AB22)*Variables!$B$17 -> -203.62443 | AD22: =-SUM(Y22,AB22)*Variables!$B$18 -> -135.74962 | AE22: =-SUM(Y22,AB22)*0.25 -> -678.74809 | AF22: =Y22+SUM(AB22:AE22) -> 1696.8702 | AI22: 0 | AJ22: =IF(D22=0,AJ21*Variables!$B$22,"") -> -3180.6982 | AK22: =IF(D22=0,AK21*Variables!$B$24,"") -> 0 | AL22: =IF(D22=0,AL21*Variables!$B$26,"") -> 0 | AM22: =IF(D22=0,AM21*Variables!$B$28,"") -> 0 | AN22: =IF(D22=0,AN21+Variables!$B$30,"") -> 0 | AO22: =IFERROR(AF22+(SUM(AI22:AN22)),0) -> -1483.8279
C23: =IF(C22<EDATE(Variables!B$31,Variables!B$32-1),EDATE(C22,1),"") -> 46266 | D23: =IFERROR(IF(ISNUMBER(E23),0,1),"") -> 0 | E23: =IFERROR(YEAR(C23),"") -> 2026 | F23: =IF(D23=0,F22*Variables!$B$7,"") -> 273909.93 | G23: =IF(D23=0,G22*Variables!$B$7,"") -> 3524.8748 | H23: =IF(D23=0,H22*Variables!$B$7,"") -> 150402.98 | I23: =IFERROR((F23*Variables!$B$8),"") -> 821729.79 | J23: =IFERROR((G23*Variables!$B$9),"") -> 7049.7495 | K23: =IFERROR((H23*Variables!$B$10),"") -> 1504029.8 | L23: =IFERROR(SUM(I23:K23),"") -> 2332809.4 | O23: =IFERROR(I23/1000*$O$14,"") -> 13147.677 | P23: =IFERROR(J23/1000*$P$14,"") -> 84.596994 | Q23: =IFERROR(K23/1000*$Q$14,"") -> 12032.239 | R23: =SUM(O23:Q23) -> 25264.512 | U23: =IFERROR(U22+Variables!$B$15,"") -> 0.13 | V23: =IFERROR(O23*U23,"") -> 1709.198 | W23: =IFERROR(P23*U23,"") -> 10.997609 | X23: =IFERROR(Q23*U23,"") -> 1564.191 | Y23: =SUM(V23:X23) -> 3284.3866 | AB23: =-Y23*Variables!$B$16 -> -328.43866 | AC23: =-SUM(Y23,AB23)*Variables!$B$17 -> -221.69609 | AD23: =-SUM(Y23,AB23)*Variables!$B$18 -> -147.7974 | AE23: =-SUM(Y23,AB23)*0.25 -> -738.98698 | AF23: =Y23+SUM(AB23:AE23) -> 1847.4675 | AI23: 0 | AJ23: =IF(D23=0,AJ22*Variables!$B$22,"") -> -3292.0226 | AK23: =IF(D23=0,AK22*Variables!$B$24,"") -> 0 | AL23: =IF(D23=0,AL22*Variables!$B$26,"") -> 0 | AM23: =IF(D23=0,AM22*Variables!$B$28,"") -> 0 | AN23: =IF(D23=0,AN22+Variables!$B$30,"") -> 0 | AO23: =IFERROR(AF23+(SUM(AI23:AN23)),0) -> -1444.5551
C24: =IF(C23<EDATE(Variables!B$31,Variables!B$32-1),EDATE(C23,1),"") -> 46296 | D24: =IFERROR(IF(ISNUMBER(E24),0,1),"") -> 0 | E24: =IFERROR(YEAR(C24),"") -> 2026 | F24: =IF(D24=0,F23*Variables!$B$7,"") -> 275279.48 | G24: =IF(D24=0,G23*Variables!$B$7,"") -> 3542.4991 | H24: =IF(D24=0,H23*Variables!$B$7,"") -> 151155 | I24: =IFERROR((F24*Variables!$B$8),"") -> 825838.44 | J24: =IFERROR((G24*Variables!$B$9),"") -> 7084.9983 | K24: =IFERROR((H24*Variables!$B$10),"") -> 1511550 | L24: =IFERROR(SUM(I24:K24),"") -> 2344473.4 | O24: =IFERROR(I24/1000*$O$14,"") -> 13213.415 | P24: =IFERROR(J24/1000*$P$14,"") -> 85.019979 | Q24: =IFERROR(K24/1000*$Q$14,"") -> 12092.4 | R24: =SUM(O24:Q24) -> 25390.835 | U24: =IFERROR(U23+Variables!$B$15,"") -> 0.14 | V24: =IFERROR(O24*U24,"") -> 1849.8781 | W24: =IFERROR(P24*U24,"") -> 11.902797 | X24: =IFERROR(Q24*U24,"") -> 1692.936 | Y24: =SUM(V24:X24) -> 3554.7169 | AB24: =-Y24*Variables!$B$16 -> -355.47169 | AC24: =-SUM(Y24,AB24)*Variables!$B$17 -> -239.94339 | AD24: =-SUM(Y24,AB24)*Variables!$B$18 -> -159.96226 | AE24: =-SUM(Y24,AB24)*0.25 -> -799.8113 | AF24: =Y24+SUM(AB24:AE24) -> 1999.5282 | AI24: 0 | AJ24: =IF(D24=0,AJ23*Variables!$B$22,"") -> -3407.2434 | AK24: =IF(D24=0,AK23*Variables!$B$24,"") -> 0 | AL24: =IF(D24=0,AL23*Variables!$B$26,"") -> 0 | AM24: =IF(D24=0,AM23*Variables!$B$28,"") -> 0 | AN24: =IF(D24=0,AN23+Variables!$B$30,"") -> 0 | AO24: =IFERROR(AF24+(SUM(AI24:AN24)),0) -> -1407.7151
C25: =IF(C24<EDATE(Variables!B$31,Variables!B$32-1),EDATE(C24,1),"") -> 46327 | D25: =IFERROR(IF(ISNUMBER(E25),0,1),"") -> 0 | E25: =IFERROR(YEAR(C25),"") -> 2026 | F25: =IF(D25=0,F24*Variables!$B$7,"") -> 276655.88 | G25: =IF(D25=0,G24*Variables!$B$7,"") -> 3560.2116 | H25: =IF(D25=0,H24*Variables!$B$7,"") -> 151910.77 | I25: =IFERROR((F25*Variables!$B$8),"") -> 829967.63 | J25: =IFERROR((G25*Variables!$B$9),"") -> 7120.4233 | K25: =IFERROR((H25*Variables!$B$10),"") -> 1519107.7 | L25: =IFERROR(SUM(I25:K25),"") -> 2356195.8 | O25: =IFERROR(I25/1000*$O$14,"") -> 13279.482 | P25: =IFERROR(J25/1000*$P$14,"") -> 85.445079 | Q25: =IFERROR(K25/1000*$Q$14,"") -> 12152.862 | R25: =SUM(O25:Q25) -> 25517.789 | U25: =IFERROR(U24+Variables!$B$15,"") -> 0.15 | V25: =IFERROR(O25*U25,"") -> 1991.9223 | W25: =IFERROR(P25*U25,"") -> 12.816762 | X25: =IFERROR(Q25*U25,"") -> 1822.9293 | Y25: =SUM(V25:X25) -> 3827.6683 | AB25: =-Y25*Variables!$B$16 -> -382.76683 | AC25: =-SUM(Y25,AB25)*Variables!$B$17 -> -258.36761 | AD25: =-SUM(Y25,AB25)*Variables!$B$18 -> -172.24508 | AE25: =-SUM(Y25,AB25)*0.25 -> -861.22538 | AF25: =Y25+SUM(AB25:AE25) -> 2153.0634 | AI25: 0 | AJ25: =IF(D25=0,AJ24*Variables!$B$22,"") -> -3526.4969 | AK25: =IF(D25=0,AK24*Variables!$B$24,"") -> 0 | AL25: =IF(D25=0,AL24*Variables!$B$26,"") -> 0 | AM25: =IF(D25=0,AM24*Variables!$B$28,"") -> 0 | AN25: =IF(D25=0,AN24+Variables!$B$30,"") -> 0 | AO25: =IFERROR(AF25+(SUM(AI25:AN25)),0) -> -1373.4335
C26: =IF(C25<EDATE(Variables!B$31,Variables!B$32-1),EDATE(C25,1),"") -> 46357 | D26: =IFERROR(IF(ISNUMBER(E26),0,1),"") -> 0 | E26: =IFERROR(YEAR(C26),"") -> 2026 | F26: =IF(D26=0,F25*Variables!$B$7,"") -> 278039.16 | G26: =IF(D26=0,G25*Variables!$B$7,"") -> 3578.0127 | H26: =IF(D26=0,H25*Variables!$B$7,"") -> 152670.33 | I26: =IFERROR((F26*Variables!$B$8),"") -> 834117.47 | J26: =IFERROR((G26*Variables!$B$9),"") -> 7156.0254 | K26: =IFERROR((H26*Variables!$B$10),"") -> 1526703.3 | L26: =IFERROR(SUM(I26:K26),"") -> 2367976.8 | O26: =IFERROR(I26/1000*$O$14,"") -> 13345.88 | P26: =IFERROR(J26/1000*$P$14,"") -> 85.872304 | Q26: =IFERROR(K26/1000*$Q$14,"") -> 12213.626 | R26: =SUM(O26:Q26) -> 25645.378 | U26: =IFERROR(U25+Variables!$B$15,"") -> 0.16 | V26: =IFERROR(O26*U26,"") -> 2135.3407 | W26: =IFERROR(P26*U26,"") -> 13.739569 | X26: =IFERROR(Q26*U26,"") -> 1954.1802 | Y26: =SUM(V26:X26) -> 4103.2605 | AB26: =-Y26*Variables!$B$16 -> -410.32605 | AC26: =-SUM(Y26,AB26)*Variables!$B$17 -> -276.97008 | AD26: =-SUM(Y26,AB26)*Variables!$B$18 -> -184.64672 | AE26: =-SUM(Y26,AB26)*0.25 -> -923.23361 | AF26: =Y26+SUM(AB26:AE26) -> 2308.084 | AI26: 0 | AJ26: =IF(D26=0,AJ25*Variables!$B$22,"") -> -3649.9243 | AK26: =IF(D26=0,AK25*Variables!$B$24,"") -> 0 | AL26: =IF(D26=0,AL25*Variables!$B$26,"") -> 0 | AM26: =IF(D26=0,AM25*Variables!$B$28,"") -> 0 | AN26: =IF(D26=0,AN25+Variables!$B$30,"") -> 0 | AO26: =IFERROR(AF26+(SUM(AI26:AN26)),0) -> -1341.8403
C27: =IF(C26<EDATE(Variables!B$31,Variables!B$32-1),EDATE(C26,1),"") -> 46388 | D27: =IFERROR(IF(ISNUMBER(E27),0,1),"") -> 0 | E27: =IFERROR(YEAR(C27),"") -> 2027 | F27: =IF(D27=0,F26*Variables!$B$7,"") -> 279429.35 | G27: =IF(D27=0,G26*Variables!$B$7,"") -> 3595.9027 | H27: =IF(D27=0,H26*Variables!$B$7,"") -> 153433.68 | I27: =IFERROR((F27*Variables!$B$8),"") -> 838288.06 | J27: =IFERROR((G27*Variables!$B$9),"") -> 7191.8055 | K27: =IFERROR((H27*Variables!$B$10),"") -> 1534336.8 | L27: =IFERROR(SUM(I27:K27),"") -> 2379816.6 | O27: =IFERROR(I27/1000*$O$14,"") -> 13412.609 | P27: =IFERROR(J27/1000*$P$14,"") -> 86.301666 | Q27: =IFERROR(K27/1000*$Q$14,"") -> 12274.694 | R27: =SUM(O27:Q27) -> 25773.605 | U27: =IFERROR(U26+Variables!$B$15,"") -> 0.17 | V27: =IFERROR(O27*U27,"") -> 2280.1435 | W27: =IFERROR(P27*U27,"") -> 14.671283 | X27: =IFERROR(Q27*U27,"") -> 2086.698 | Y27: =SUM(V27:X27) -> 4381.5128 | AB27: =-Y27*Variables!$B$16 -> -438.15128 | AC27: =-SUM(Y27,AB27)*Variables!$B$17 -> -295.75212 | AD27: =-SUM(Y27,AB27)*Variables!$B$18 -> -197.16808 | AE27: =-SUM(Y27,AB27)*0.25 -> -985.84038 | AF27: =Y27+SUM(AB27:AE27) -> 2464.601 | AI27: 0 | AJ27: =IF(D27=0,AJ26*Variables!$B$22,"") -> -3777.6716 | AK27: =IF(D27=0,AK26*Variables!$B$24,"") -> 0 | AL27: =IF(D27=0,AL26*Variables!$B$26,"") -> 0 | AM27: =IF(D27=0,AM26*Variables!$B$28,"") -> 0 | AN27: =IF(D27=0,AN26+Variables!$B$30,"") -> 0 | AO27: =IFERROR(AF27+(SUM(AI27:AN27)),0) -> -1313.0707
... C94: =IF(C93<EDATE(Variables!B$31,Variables!B$32-1),EDATE(C93,1),"") | D94: =IFERROR(IF(ISNUMBER(E94),0,1),"") -> 1 | E94: =IFERROR(YEAR(C94),"") | F94: =IF(D94=0,F93*Variables!$B$7,"") | G94: =IF(D94=0,G93*Variables!$B$7,"") | H94: =IF(D94=0,H93*Variables!$B$7,"") | I94: =IFERROR((F94*Variables!$B$8),"") | J94: =IFERROR((G94*Variables!$B$9),"") | K94: =IFERROR((H94*Variables!$B$10),"") | L94: =IFERROR(SUM(I94:K94),"") -> 0 | O94: =IFERROR(I94/1000*$O$14,"") | P94: =IFERROR(J94/1000*$P$14,"") | Q94: =IFERROR(K94/1000*$Q$14,"") | R94: =SUM(O94:Q94) -> 0 | U94: =IFERROR(U93+Variables!$B$15,"") -> 0.84 | V94: =IFERROR(O94*U94,"") | W94: =IFERROR(P94*U94,"") | X94: =IFERROR(Q94*U94,"") | Y94: =SUM(V94:X94) -> 0 | AB94: =-Y94*Variables!$B$16 -> 0 | AC94: =-SUM(Y94,AB94)*Variables!$B$17 -> 0 | AD94: =-SUM(Y94,AB94)*Variables!$B$18 -> 0 | AE94: =-SUM(Y94,AB94)*0.25 -> 0 | AF94: =Y94+SUM(AB94:AE94) -> 0 | AI94: 20 | AJ94: =IF(D94=0,AJ93*Variables!$B$22,"") | AK94: =IF(D94=0,AK93*Variables!$B$24,"") | AL94: =IF(D94=0,AL93*Variables!$B$26,"") | AM94: =IF(D94=0,AM93*Variables!$B$28,"") | AN94: =IF(D94=0,AN93+Variables!$B$30,"") | AO94: =IFERROR(AF94+(SUM(AI94:AN94)),0) -> 20
C95: =IF(C94<EDATE(Variables!B$31,Variables!B$32-1),EDATE(C94,1),"") | D95: =IFERROR(IF(ISNUMBER(E95),0,1),"") -> 1 | E95: =IFERROR(YEAR(C95),"") | F95: =IF(D95=0,F94*Variables!$B$7,"") | G95: =IF(D95=0,G94*Variables!$B$7,"") | H95: =IF(D95=0,H94*Variables!$B$7,"") | I95: =IFERROR((F95*Variables!$B$8),"") | J95: =IFERROR((G95*Variables!$B$9),"") | K95: =IFERROR((H95*Variables!$B$10),"") | L95: =IFERROR(SUM(I95:K95),"") -> 0 | O95: =IFERROR(I95/1000*$O$14,"") | P95: =IFERROR(J95/1000*$P$14,"") | Q95: =IFERROR(K95/1000*$Q$14,"") | R95: =SUM(O95:Q95) -> 0 | U95: =IFERROR(U94+Variables!$B$15,"") -> 0.85 | V95: =IFERROR(O95*U95,"") | W95: =IFERROR(P95*U95,"") | X95: =IFERROR(Q95*U95,"") | Y95: =SUM(V95:X95) -> 0
C96: =IF(C95<EDATE(Variables!B$31,Variables!B$32-1),EDATE(C95,1),"") | D96: =IFERROR(IF(ISNUMBER(E96),0,1),"") -> 1 | E96: =IFERROR(YEAR(C96),"") | F96: =IF(D96=0,F95*Variables!$B$7,"") | G96: =IF(D96=0,G95*Variables!$B$7,"") | H96: =IF(D96=0,H95*Variables!$B$7,"") | I96: =IFERROR((F96*Variables!$B$8),"") | J96: =IFERROR((G96*Variables!$B$9),"") | K96: =IFERROR((H96*Variables!$B$10),"") | L96: =IFERROR(SUM(I96:K96),"") -> 0 | O96: =IFERROR(I96/1000*$O$14,"") | P96: =IFERROR(J96/1000*$P$14,"") | Q96: =IFERROR(K96/1000*$Q$14,"") | U96: =IFERROR(U95+Variables!$B$15,"") -> 0.86 | V96: =IFERROR(O96*U96,"") | W96: =IFERROR(P96*U96,"") | X96: =IFERROR(Q96*U96,"") | Y96: =SUM(V96:X96) -> 0
C97: =IF(C96<EDATE(Variables!B$31,Variables!B$32-1),EDATE(C96,1),"") | D97: =IFERROR(IF(ISNUMBER(E97),0,1),"") -> 1 | E97: =IFERROR(YEAR(C97),"") | F97: =IF(D97=0,F96*Variables!$B$7,"") | G97: =IF(D97=0,G96*Variables!$B$7,"") | H97: =IF(D97=0,H96*Variables!$B$7,"") | I97: =IFERROR((F97*Variables!$B$8),"") | J97: =IFERROR((G97*Variables!$B$9),"") | K97: =IFERROR((H97*Variables!$B$10),"") | L97: =IFERROR(SUM(I97:K97),"") -> 0 | O97: =IFERROR(I97/1000*$O$14,"") | P97: =IFERROR(J97/1000*$P$14,"") | Q97: =IFERROR(K97/1000*$Q$14,"") | U97: =IFERROR(U96+Variables!$B$15,"") -> 0.87 | V97: =IFERROR(O97*U97,"") | W97: =IFERROR(P97*U97,"") | X97: =IFERROR(Q97*U97,"") | Y97: =SUM(V97:X97) -> 0
C98: =IF(C97<EDATE(Variables!B$31,Variables!B$32-1),EDATE(C97,1),"") | D98: =IFERROR(IF(ISNUMBER(E98),0,1),"") -> 1 | E98: =IFERROR(YEAR(C98),"") | F98: =IF(D98=0,F97*Variables!$B$7,"") | G98: =IF(D98=0,G97*Variables!$B$7,"") | H98: =IF(D98=0,H97*Variables!$B$7,"") | I98: =IFERROR((F98*Variables!$B$8),"") | J98: =IFERROR((G98*Variables!$B$9),"") | K98: =IFERROR((H98*Variables!$B$10),"") | L98: =IFERROR(SUM(I98:K98),"") -> 0 | O98: =IFERROR(I98/1000*$O$14,"") | P98: =IFERROR(J98/1000*$P$14,"") | Q98: =IFERROR(K98/1000*$Q$14,"") | U98: =IFERROR(U97+Variables!$B$15,"") -> 0.88 | V98: =IFERROR(O98*U98,"") | W98: =IFERROR(P98*U98,"") | X98: =IFERROR(Q98*U98,"") | Y98: =SUM(V98:X98) -> 0
C99: =IF(C98<EDATE(Variables!B$31,Variables!B$32-1),EDATE(C98,1),"") | D99: =IFERROR(IF(ISNUMBER(E99),0,1),"") -> 1 | E99: =IFERROR(YEAR(C99),"") | F99: =IF(D99=0,F98*Variables!$B$7,"") | G99: =IF(D99=0,G98*Variables!$B$7,"") | H99: =IF(D99=0,H98*Variables!$B$7,"") | I99: =IFERROR((F99*Variables!$B$8),"") | J99: =IFERROR((G99*Variables!$B$9),"") | K99: =IFERROR((H99*Variables!$B$10),"") | L99: =IFERROR(SUM(I99:K99),"") -> 0 | O99: =IFERROR(I99/1000*$O$14,"") | P99: =IFERROR(J99/1000*$P$14,"") | Q99: =IFERROR(K99/1000*$Q$14,"") | U99: =IFERROR(U98+Variables!$B$15,"") -> 0.89 | V99: =IFERROR(O99*U99,"") | W99: =IFERROR(P99*U99,"") | X99: =IFERROR(Q99*U99,"") | Y99: =SUM(V99:X99) -> 0
C100: =IF(C99<EDATE(Variables!B$31,Variables!B$32-1),EDATE(C99,1),"") | D100: =IFERROR(IF(ISNUMBER(E100),0,1),"") -> 1 | E100: =IFERROR(YEAR(C100),"") | F100: =IF(D100=0,F99*Variables!$B$7,"") | G100: =IF(D100=0,G99*Variables!$B$7,"") | H100: =IF(D100=0,H99*Variables!$B$7,"") | I100: =IFERROR((F100*Variables!$B$8),"") | J100: =IFERROR((G100*Variables!$B$9),"") | K100: =IFERROR((H100*Variables!$B$10),"") | L100: =IFERROR(SUM(I100:K100),"") -> 0 | O100: =IFERROR(I100/1000*$O$14,"") | P100: =IFERROR(J100/1000*$P$14,"") | Q100: =IFERROR(K100/1000*$Q$14,"") | U100: =IFERROR(U99+Variables!$B$15,"") -> 0.9 | V100: =IFERROR(O100*U100,"") | W100: =IFERROR(P100*U100,"") | X100: =IFERROR(Q100*U100,"") | Y100: =SUM(V100:X100) -> 0
C101: =IF(C100<EDATE(Variables!B$31,Variables!B$32-1),EDATE(C100,1),"") | D101: =IFERROR(IF(ISNUMBER(E101),0,1),"") -> 1 | E101: =IFERROR(YEAR(C101),"") | F101: =IF(D101=0,F100*Variables!$B$7,"") | G101: =IF(D101=0,G100*Variables!$B$7,"") | H101: =IF(D101=0,H100*Variables!$B$7,"") | I101: =IFERROR((F101*Variables!$B$8),"") | J101: =IFERROR((G101*Variables!$B$9),"") | K101: =IFERROR((H101*Variables!$B$10),"") | L101: =IFERROR(SUM(I101:K101),"") -> 0 | O101: =IFERROR(I101/1000*$O$14,"") | P101: =IFERROR(J101/1000*$P$14,"") | Q101: =IFERROR(K101/1000*$Q$14,"") | U101: =IFERROR(U100+Variables!$B$15,"") -> 0.91 | V101: =IFERROR(O101*U101,"") | W101: =IFERROR(P101*U101,"") | X101: =IFERROR(Q101*U101,"") | Y101: =SUM(V101:X101) -> 0
C102: =IF(C101<EDATE(Variables!B$31,Variables!B$32-1),EDATE(C101,1),"") | D102: =IFERROR(IF(ISNUMBER(E102),0,1),"") -> 1 | E102: =IFERROR(YEAR(C102),"") | F102: =IF(D102=0,F101*Variables!$B$7,"") | G102: =IF(D102=0,G101*Variables!$B$7,"") | H102: =IF(D102=0,H101*Variables!$B$7,"") | I102: =IFERROR((F102*Variables!$B$8),"") | J102: =IFERROR((G102*Variables!$B$9),"") | K102: =IFERROR((H102*Variables!$B$10),"") | L102: =IFERROR(SUM(I102:K102),"") -> 0 | O102: =IFERROR(I102/1000*$O$14,"") | P102: =IFERROR(J102/1000*$P$14,"") | Q102: =IFERROR(K102/1000*$Q$14,"") | U102: =IFERROR(U101+Variables!$B$15,"") -> 0.92 | V102: =IFERROR(O102*U102,"") | W102: =IFERROR(P102*U102,"") | X102: =IFERROR(Q102*U102,"") | Y102: =SUM(V102:X102) -> 0
C103: =IF(C102<EDATE(Variables!B$31,Variables!B$32-1),EDATE(C102,1),"") | D103: =IFERROR(IF(ISNUMBER(E103),0,1),"") -> 1 | E103: =IFERROR(YEAR(C103),"") | F103: =IF(D103=0,F102*Variables!$B$7,"") | G103: =IF(D103=0,G102*Variables!$B$7,"") | H103: =IF(D103=0,H102*Variables!$B$7,"") | I103: =IFERROR((F103*Variables!$B$8),"") | J103: =IFERROR((G103*Variables!$B$9),"") | K103: =IFERROR((H103*Variables!$B$10),"") | L103: =IFERROR(SUM(I103:K103),"") -> 0 | O103: =IFERROR(I103/1000*$O$14,"") | P103: =IFERROR(J103/1000*$P$14,"") | Q103: =IFERROR(K103/1000*$Q$14,"") | U103: =IFERROR(U102+Variables!$B$15,"") -> 0.93 | V103: =IFERROR(O103*U103,"") | W103: =IFERROR(P103*U103,"") | X103: =IFERROR(Q103*U103,"") | Y103: =SUM(V103:X103) -> 0
C104: =IF(C103<EDATE(Variables!B$31,Variables!B$32-1),EDATE(C103,1),"") | D104: =IFERROR(IF(ISNUMBER(E104),0,1),"") -> 1 | E104: =IFERROR(YEAR(C104),"") | F104: =IF(D104=0,F103*Variables!$B$7,"") | G104: =IF(D104=0,G103*Variables!$B$7,"") | H104: =IF(D104=0,H103*Variables!$B$7,"") | I104: =IFERROR((F104*Variables!$B$8),"") | J104: =IFERROR((G104*Variables!$B$9),"") | K104: =IFERROR((H104*Variables!$B$10),"") | L104: =IFERROR(SUM(I104:K104),"") -> 0 | O104: =IFERROR(I104/1000*$O$14,"") | P104: =IFERROR(J104/1000*$P$14,"") | Q104: =IFERROR(K104/1000*$Q$14,"") | U104: =IFERROR(U103+Variables!$B$15,"") -> 0.94 | V104: =IFERROR(O104*U104,"") | W104: =IFERROR(P104*U104,"") | X104: =IFERROR(Q104*U104,"") | Y104: =SUM(V104:X104) -> 0
C105: =IF(C104<EDATE(Variables!B$31,Variables!B$32-1),EDATE(C104,1),"") | D105: =IFERROR(IF(ISNUMBER(E105),0,1),"") -> 1 | E105: =IFERROR(YEAR(C105),"") | F105: =IF(D105=0,F104*Variables!$B$7,"") | G105: =IF(D105=0,G104*Variables!$B$7,"") | H105: =IF(D105=0,H104*Variables!$B$7,"") | I105: =IFERROR((F105*Variables!$B$8),"") | J105: =IFERROR((G105*Variables!$B$9),"") | K105: =IFERROR((H105*Variables!$B$10),"") | L105: =IFERROR(SUM(I105:K105),"") -> 0 | O105: =IFERROR(I105/1000*$O$14,"") | P105: =IFERROR(J105/1000*$P$14,"") | Q105: =IFERROR(K105/1000*$Q$14,"") | U105: =IFERROR(U104+Variables!$B$15,"") -> 0.95 | V105: =IFERROR(O105*U105,"") | W105: =IFERROR(P105*U105,"") | X105: =IFERROR(Q105*U105,"") | Y105: =SUM(V105:X105) -> 0
C106: =IF(C105<EDATE(Variables!B$31,Variables!B$32-1),EDATE(C105,1),"") | D106: =IFERROR(IF(ISNUMBER(E106),0,1),"") -> 1 | E106: =IFERROR(YEAR(C106),"") | F106: =IF(D106=0,F105*Variables!$B$7,"") | G106: =IF(D106=0,G105*Variables!$B$7,"") | H106: =IF(D106=0,H105*Variables!$B$7,"") | I106: =IFERROR((F106*Variables!$B$8),"") | J106: =IFERROR((G106*Variables!$B$9),"") | K106: =IFERROR((H106*Variables!$B$10),"") | L106: =IFERROR(SUM(I106:K106),"") -> 0 | O106: =IFERROR(I106/1000*$O$14,"") | P106: =IFERROR(J106/1000*$P$14,"") | Q106: =IFERROR(K106/1000*$Q$14,"") | U106: =IFERROR(U105+Variables!$B$15,"") -> 0.96 | V106: =IFERROR(O106*U106,"") | W106: =IFERROR(P106*U106,"") | X106: =IFERROR(Q106*U106,"") | Y106: =SUM(V106:X106) -> 0
C107: =IF(C106<EDATE(Variables!B$31,Variables!B$32-1),EDATE(C106,1),"") | D107: =IFERROR(IF(ISNUMBER(E107),0,1),"") -> 1 | E107: =IFERROR(YEAR(C107),"") | F107: =IF(D107=0,F106*Variables!$B$7,"") | G107: =IF(D107=0,G106*Variables!$B$7,"") | H107: =IF(D107=0,H106*Variables!$B$7,"") | I107: =IFERROR((F107*Variables!$B$8),"") | J107: =IFERROR((G107*Variables!$B$9),"") | K107: =IFERROR((H107*Variables!$B$10),"") | L107: =IFERROR(SUM(I107:K107),"") -> 0 | O107: =IFERROR(I107/1000*$O$14,"") | P107: =IFERROR(J107/1000*$P$14,"") | Q107: =IFERROR(K107/1000*$Q$14,"") | U107: =IFERROR(U106+Variables!$B$15,"") -> 0.97 | V107: =IFERROR(O107*U107,"") | W107: =IFERROR(P107*U107,"") | X107: =IFERROR(Q107*U107,"") | Y107: =SUM(V107:X107) -> 0
... C146: =IF(C145<EDATE(Variables!B$31,Variables!B$32-1),EDATE(C145,1),"") | D146: =IFERROR(IF(ISNUMBER(E146),0,1),"") -> 1 | E146: =IFERROR(YEAR(C146),"") | F146: =IF(D146=0,F145*Variables!$B$7,"") | G146: =IF(D146=0,G145*Variables!$B$7,"") | H146: =IF(D146=0,H145*Variables!$B$7,"") | I146: =IFERROR((F146*Variables!$B$8),"") | J146: =IFERROR((G146*Variables!$B$9),"") | K146: =IFERROR((H146*Variables!$B$10),"") | L146: =IFERROR(SUM(I146:K146),"") -> 0 | O146: =IFERROR(I146/1000*$O$14,"") | P146: =IFERROR(J146/1000*$P$14,"") | Q146: =IFERROR(K146/1000*$Q$14,"") | U146: =IFERROR(U145+Variables!$B$15,"") -> 1.36 | V146: =IFERROR(O146*U146,"") | W146: =IFERROR(P146*U146,"") | X146: =IFERROR(Q146*U146,"") | Y146: =SUM(V146:X146) -> 0
C147: =IF(C146<EDATE(Variables!B$31,Variables!B$32-1),EDATE(C146,1),"") | D147: =IFERROR(IF(ISNUMBER(E147),0,1),"") -> 1 | E147: =IFERROR(YEAR(C147),"") | F147: =IF(D147=0,F146*Variables!$B$7,"") | G147: =IF(D147=0,G146*Variables!$B$7,"") | H147: =IF(D147=0,H146*Variables!$B$7,"") | I147: =IFERROR((F147*Variables!$B$8),"") | K147: =IFERROR((H147*Variables!$B$10),"") | L147: =IFERROR(SUM(I147:K147),"") -> 0 | O147: =IFERROR(I147/1000*$O$14,"") | P147: =IFERROR(J147/1000*$P$14,"") -> 0 | Q147: =IFERROR(K147/1000*$Q$14,"") | U147: =IFERROR(U146+Variables!$B$15,"") -> 1.37 | V147: =IFERROR(O147*U147,"") | W147: =IFERROR(P147*U147,"") -> 0 | X147: =IFERROR(Q147*U147,"") | Y147: =SUM(V147:X147) -> 0
C148: =IF(C147<EDATE(Variables!B$31,Variables!B$32-1),EDATE(C147,1),"") | D148: =IFERROR(IF(ISNUMBER(E148),0,1),"") -> 1 | E148: =IFERROR(YEAR(C148),"") | F148: =IF(D148=0,F147*Variables!$B$7,"") | G148: =IF(D148=0,G147*Variables!$B$7,"") | H148: =IF(D148=0,H147*Variables!$B$7,"") | I148: =IFERROR((F148*Variables!$B$8),"") | K148: =IFERROR((H148*Variables!$B$10),"") | L148: =IFERROR(SUM(I148:K148),"") -> 0 | O148: =IFERROR(I148/1000*$O$14,"") | P148: =IFERROR(J148/1000*$P$14,"") -> 0 | Q148: =IFERROR(K148/1000*$Q$14,"") | U148: =IFERROR(U147+Variables!$B$15,"") -> 1.38 | V148: =IFERROR(O148*U148,"") | W148: =IFERROR(P148*U148,"") -> 0 | X148: =IFERROR(Q148*U148,"") | Y148: =SUM(V148:X148) -> 0
C149: =IF(C148<EDATE(Variables!B$31,Variables!B$32-1),EDATE(C148,1),"") | D149: =IFERROR(IF(ISNUMBER(E149),0,1),"") -> 1 | E149: =IFERROR(YEAR(C149),"") | F149: =IF(D149=0,F148*Variables!$B$7,"") | G149: =IF(D149=0,G148*Variables!$B$7,"") | H149: =IF(D149=0,H148*Variables!$B$7,"") | I149: =IFERROR((F149*Variables!$B$8),"") | K149: =IFERROR((H149*Variables!$B$10),"") | L149: =IFERROR(SUM(I149:K149),"") -> 0 | O149: =IFERROR(I149/1000*$O$14,"") | P149: =IFERROR(J149/1000*$P$14,"") -> 0 | Q149: =IFERROR(K149/1000*$Q$14,"") | U149: =IFERROR(U148+Variables!$B$15,"") -> 1.39 | V149: =IFERROR(O149*U149,"") | W149: =IFERROR(P149*U149,"") -> 0 | X149: =IFERROR(Q149*U149,"") | Y149: =SUM(V149:X149) -> 0
C150: =IF(C149<EDATE(Variables!B$31,Variables!B$32-1),EDATE(C149,1),"") | D150: =IFERROR(IF(ISNUMBER(E150),0,1),"") -> 1 | E150: =IFERROR(YEAR(C150),"") | F150: =IF(D150=0,F149*Variables!$B$7,"") | G150: =IF(D150=0,G149*Variables!$B$7,"") | H150: =IF(D150=0,H149*Variables!$B$7,"") | I150: =IFERROR((F150*Variables!$B$8),"") | K150: =IFERROR((H150*Variables!$B$10),"") | L150: =IFERROR(SUM(I150:K150),"") -> 0 | O150: =IFERROR(I150/1000*$O$14,"") | P150: =IFERROR(J150/1000*$P$14,"") -> 0 | Q150: =IFERROR(K150/1000*$Q$14,"") | U150: =IFERROR(U149+Variables!$B$15,"") -> 1.4 | V150: =IFERROR(O150*U150,"") | W150: =IFERROR(P150*U150,"") -> 0 | X150: =IFERROR(Q150*U150,"") | Y150: =SUM(V150:X150) -> 0
C151: =IF(C150<EDATE(Variables!B$31,Variables!B$32-1),EDATE(C150,1),"") | D151: =IFERROR(IF(ISNUMBER(E151),0,1),"") -> 1 | E151: =IFERROR(YEAR(C151),"") | F151: =IF(D151=0,F150*Variables!$B$7,"") | G151: =IF(D151=0,G150*Variables!$B$7,"") | H151: =IF(D151=0,H150*Variables!$B$7,"") | I151: =IFERROR((F151*Variables!$B$8),"") | K151: =IFERROR((H151*Variables!$B$10),"") | L151: =IFERROR(SUM(I151:K151),"") -> 0 | O151: =IFERROR(I151/1000*$O$14,"") | P151: =IFERROR(J151/1000*$P$14,"") -> 0 | Q151: =IFERROR(K151/1000*$Q$14,"") | U151: =IFERROR(U150+Variables!$B$15,"") -> 1.41 | V151: =IFERROR(O151*U151,"") | X151: =IFERROR(Q151*U151,"") | Y151: =SUM(V151:X151) -> 0
...

Sheet 2025 – Forecast store_name
B1: ="Retail Media Forecast " & Variables!B2 & " - 2025" -> Retail Media Forecast {store_name} - 2025
B4: Total Retail Media Impressions
B5: In-Store | C5: Digital Screens & Radio | E5: =IF(LEN('Retail Media Investment Case'!G9)=0, "", SUMIF('Retail Media Investment Case'!E$15:E$1048576, 'Retail Media Investment Case'!G9, 'Retail Media Investment Case'!I$15:I$1048576) )
B6: On-Site | C6: Website & Mobile App | E6: =IF(LEN('Retail Media Investment Case'!G9)=0, "", SUMIF('Retail Media Investment Case'!E$15:E$1048576, 'Retail Media Investment Case'!G9, 'Retail Media Investment Case'!J$15:J$1048576) )
B7: Off-Site | C7: Social Media & Direct Comms | E7: =IF(LEN('Retail Media Investment Case'!G9)=0, "", SUMIF('Retail Media Investment Case'!E$15:E$1048576, 'Retail Media Investment Case'!G9, 'Retail Media Investment Case'!K$15:K$1048576) )
B9: Forecasted Retail Media Sales
B10: In-Store | C10: =IF(LEN('Retail Media Investment Case'!G9)=0, "", SUMIF('Retail Media Investment Case'!E$15:E$1048576, 'Retail Media Investment Case'!G9, 'Retail Media Investment Case'!V$15:V$1048576) )
B11: On-Site | C11: =IF(LEN('Retail Media Investment Case'!G9)=0, "", SUMIF('Retail Media Investment Case'!E$15:E$1048576, 'Retail Media Investment Case'!G9, 'Retail Media Investment Case'!W$15:W$1048576) )
B12: Off-Site | C12: =IF(LEN('Retail Media Investment Case'!G9)=0, "", SUMIF('Retail Media Investment Case'!E$15:E$1048576, 'Retail Media Investment Case'!G9, 'Retail Media Investment Case'!X$15:X$1048576) )
B13: Total Forecasted Media Sales | D13: =SUM(C10:E12) -> 0
B15: Costs (€)
B16: Commisions to Media Agencies | D16: =IF(LEN('Retail Media Investment Case'!G9)=0, "", SUMIF('Retail Media Investment Case'!E$15:E$1048576, 'Retail Media Investment Case'!G9, 'Retail Media Investment Case'!AB$15:AB$1048576) )
B17: Cost of Sales | D17: =IF(LEN('Retail Media Investment Case'!G9)=0, "", SUMIF('Retail Media Investment Case'!E$15:E$1048576, 'Retail Media Investment Case'!G9, 'Retail Media Investment Case'!AC$15:AC$1048576) )
B18: Cost of Campaign Management | D18: =IF(LEN('Retail Media Investment Case'!G9)=0, "", SUMIF('Retail Media Investment Case'!E$15:E$1048576, 'Retail Media Investment Case'!G9, 'Retail Media Investment Case'!AD$15:AD$1048576) )
B19: Cost of Platform | D19: =IF(LEN('Retail Media Investment Case'!G9)=0, "", SUMIF('Retail Media Investment Case'!E$15:E$1048576, 'Retail Media Investment Case'!G9, 'Retail Media Investment Case'!AE$15:AE$1048576) )
B20: Total Operating Cost | D20: =SUM(D16:E19) -> 0
B21: Software Setup & Integrations | D21: =IF(LEN('Retail Media Investment Case'!G9)=0, "", SUMIF('Retail Media Investment Case'!E$15:E$1048576, 'Retail Media Investment Case'!G9, 'Retail Media Investment Case'!AI$15:AI$1048576) )
B22: Cloud & Processing Costs | D22: =IF(LEN('Retail Media Investment Case'!G9)=0, "", SUMIF('Retail Media Investment Case'!E$15:E$1048576, 'Retail Media Investment Case'!G9, 'Retail Media Investment Case'!AJ$15:AJ$1048576) )
B23: FTE Consumption: Commercial | D23: =IF(LEN('Retail Media Investment Case'!G9)=0, "", SUMIF('Retail Media Investment Case'!E$15:E$1048576, 'Retail Media Investment Case'!G9, 'Retail Media Investment Case'!AK$15:AK$1048576) )
B24: FTE Consumption: Marketing | D24: =IF(LEN('Retail Media Investment Case'!G9)=0, "", SUMIF('Retail Media Investment Case'!E$15:E$1048576, 'Retail Media Investment Case'!G9, 'Retail Media Investment Case'!AL$15:AL$1048576) )
B25: FTE Consumptions: IT & Digital | D25: =IF(LEN('Retail Media Investment Case'!G9)=0, "", SUMIF('Retail Media Investment Case'!E$15:E$1048576, 'Retail Media Investment Case'!G9, 'Retail Media Investment Case'!AM$15:AM$1048576) )
B26: CAPEX Investments | D26: =IF(LEN('Retail Media Investment Case'!G9)=0, "", SUMIF('Retail Media Investment Case'!E$15:E$1048576, 'Retail Media Investment Case'!G9, 'Retail Media Investment Case'!AN$15:AN$1048576) )
B27: Total Cost Including Setup & Cloud | D27: =SUM(D20:E26) -> 0
B29: Operating Profit - 2025 | D29: =D13+D20 -> 0

Sheet 2026 – Forecast store_name
B1: ="Retail Media Forecast " & Variables!B2 & " - 2026" -> Retail Media Forecast {store_name} - 2026
B4: Total Retail Media Impressions
B5: In-Store | C5: Digital Screens & Radio | E5: =IF(LEN('Retail Media Investment Case'!H9)=0, "", SUMIF('Retail Media Investment Case'!E$15:E$1048576, 'Retail Media Investment Case'!H9, 'Retail Media Investment Case'!I$15:I$1048576) ) -> 9740012
B6: On-Site | C6: Website & Mobile App | E6: =IF(LEN('Retail Media Investment Case'!H9)=0, "", SUMIF('Retail Media Investment Case'!E$15:E$1048576, 'Retail Media Investment Case'!H9, 'Retail Media Investment Case'!J$15:J$1048576) ) -> 83561.1
B7: Off-Site | C7: Social Media & Direct Comms | E7: =IF(LEN('Retail Media Investment Case'!H9)=0, "", SUMIF('Retail Media Investment Case'!E$15:E$1048576, 'Retail Media Investment Case'!H9, 'Retail Media Investment Case'!K$15:K$1048576) ) -> 17827355
B9: Forecasted Retail Media Sales
B10: In-Store | C10: =IF(LEN('Retail Media Investment Case'!H9)=0, "", SUMIF('Retail Media Investment Case'!E$15:E$1048576, 'Retail Media Investment Case'!H9, 'Retail Media Investment Case'!V$15:V$1048576) ) -> 16455.838
B11: On-Site | C11: =IF(LEN('Retail Media Investment Case'!H9)=0, "", SUMIF('Retail Media Investment Case'!E$15:E$1048576, 'Retail Media Investment Case'!H9, 'Retail Media Investment Case'!W$15:W$1048576) ) -> 105.88292
B12: Off-Site | C12: =IF(LEN('Retail Media Investment Case'!H9)=0, "", SUMIF('Retail Media Investment Case'!E$15:E$1048576, 'Retail Media Investment Case'!H9, 'Retail Media Investment Case'!X$15:X$1048576) ) -> 15059.738
B13: Total Forecasted Media Sales | D13: =SUM(C10:E12) -> 31621.459
B15: Costs (€)
B16: Commisions to Media Agencies | D16: =IF(LEN('Retail Media Investment Case'!H9)=0, "", SUMIF('Retail Media Investment Case'!E$15:E$1048576, 'Retail Media Investment Case'!H9, 'Retail Media Investment Case'!AB$15:AB$1048576) ) -> -3162.1459
B17: Cost of Sales | D17: =IF(LEN('Retail Media Investment Case'!H9)=0, "", SUMIF('Retail Media Investment Case'!E$15:E$1048576, 'Retail Media Investment Case'!H9, 'Retail Media Investment Case'!AC$15:AC$1048576) ) -> -2134.4485
B18: Cost of Campaign Management | D18: =IF(LEN('Retail Media Investment Case'!H9)=0, "", SUMIF('Retail Media Investment Case'!E$15:E$1048576, 'Retail Media Investment Case'!H9, 'Retail Media Investment Case'!AD$15:AD$1048576) ) -> -1422.9657
B19: Cost of Platform | D19: =IF(LEN('Retail Media Investment Case'!H9)=0, "", SUMIF('Retail Media Investment Case'!E$15:E$1048576, 'Retail Media Investment Case'!H9, 'Retail Media Investment Case'!AE$15:AE$1048576) ) -> -7114.8283
B20: Total Operating Cost | D20: =SUM(D16:E19) -> -13834.388
B21: Software Setup & Integrations | D21: =IF(LEN('Retail Media Investment Case'!H9)=0, "", SUMIF('Retail Media Investment Case'!E$15:E$1048576, 'Retail Media Investment Case'!H9, 'Retail Media Investment Case'!AI$15:AI$1048576) ) -> -20000
B22: Cloud & Processing Costs | D22: =IF(LEN('Retail Media Investment Case'!H9)=0, "", SUMIF('Retail Media Investment Case'!E$15:E$1048576, 'Retail Media Investment Case'!H9, 'Retail Media Investment Case'!AJ$15:AJ$1048576) ) -> -36504.904
B23: FTE Consumption: Commercial | D23: =IF(LEN('Retail Media Investment Case'!H9)=0, "", SUMIF('Retail Media Investment Case'!E$15:E$1048576, 'Retail Media Investment Case'!H9, 'Retail Media Investment Case'!AK$15:AK$1048576) ) -> 0
B24: FTE Consumption: Marketing | D24: =IF(LEN('Retail Media Investment Case'!H9)=0, "", SUMIF('Retail Media Investment Case'!E$15:E$1048576, 'Retail Media Investment Case'!H9, 'Retail Media Investment Case'!AL$15:AL$1048576) ) -> 0
B25: FTE Consumptions: IT & Digital | D25: =IF(LEN('Retail Media Investment Case'!H9)=0, "", SUMIF('Retail Media Investment Case'!E$15:E$1048576, 'Retail Media Investment Case'!H9, 'Retail Media Investment Case'!AM$15:AM$1048576) ) -> 0
B26: CAPEX Investments | D26: =IF(LEN('Retail Media Investment Case'!H9)=0, "", SUMIF('Retail Media Investment Case'!E$15:E$1048576, 'Retail Media Investment Case'!H9, 'Retail Media Investment Case'!AN$15:AN$1048576) ) -> 0
B27: Total Cost Including Setup & Cloud | D27: =SUM(D21:E26) -> -56504.904
B29: Operating Profit - 2026 | D29: =D13+D20 -> 17787.071

Sheet 2027 – Forecast store_name
B1: ="Retail Media Forecast " & Variables!B2 & " - 2027" -> Retail Media Forecast {store_name} - 2027
B4: Total Retail Media Impressions
B5: In-Store | C5: Digital Screens & Radio | E5: =IF(LEN('Retail Media Investment Case'!I9)=0, "", SUMIF('Retail Media Investment Case'!E$15:E$1048576, 'Retail Media Investment Case'!I9, 'Retail Media Investment Case'!I$15:I$1048576) ) -> 10340755
B6: On-Site | C6: Website & Mobile App | E6: =IF(LEN('Retail Media Investment Case'!I9)=0, "", SUMIF('Retail Media Investment Case'!E$15:E$1048576, 'Retail Media Investment Case'!I9, 'Retail Media Investment Case'!J$15:J$1048576) ) -> 88714.965
B7: Off-Site | C7: Social Media & Direct Comms | E7: =IF(LEN('Retail Media Investment Case'!I9)=0, "", SUMIF('Retail Media Investment Case'!E$15:E$1048576, 'Retail Media Investment Case'!I9, 'Retail Media Investment Case'!K$15:K$1048576) ) -> 18926907
B9: Forecasted Retail Media Sales
B10: In-Store | C10: =IF(LEN('Retail Media Investment Case'!I9)=0, "", SUMIF('Retail Media Investment Case'!E$15:E$1048576, 'Retail Media Investment Case'!I9, 'Retail Media Investment Case'!V$15:V$1048576) ) -> 37325.047
B11: On-Site | C11: =IF(LEN('Retail Media Investment Case'!I9)=0, "", SUMIF('Retail Media Investment Case'!E$15:E$1048576, 'Retail Media Investment Case'!I9, 'Retail Media Investment Case'!W$15:W$1048576) ) -> 240.1631
B12: Off-Site | C12: =IF(LEN('Retail Media Investment Case'!I9)=0, "", SUMIF('Retail Media Investment Case'!E$15:E$1048576, 'Retail Media Investment Case'!I9, 'Retail Media Investment Case'!X$15:X$1048576) ) -> 34158.421
B13: Total Forecasted Media Sales | D13: =SUM(C10:E12) -> 71723.631
B15: Costs (€)
B16: Commisions to Media Agencies | D16: =IF(LEN('Retail Media Investment Case'!I9)=0, "", SUMIF('Retail Media Investment Case'!E$15:E$1048576, 'Retail Media Investment Case'!I9, 'Retail Media Investment Case'!AB$15:AB$1048576) ) -> -7172.3631
B17: Cost of Sales | D17: =IF(LEN('Retail Media Investment Case'!I9)=0, "", SUMIF('Retail Media Investment Case'!E$15:E$1048576, 'Retail Media Investment Case'!I9, 'Retail Media Investment Case'!AC$15:AC$1048576) ) -> -4841.3451
B18: Cost of Campaign Management | D18: =IF(LEN('Retail Media Investment Case'!I9)=0, "", SUMIF('Retail Media Investment Case'!E$15:E$1048576, 'Retail Media Investment Case'!I9, 'Retail Media Investment Case'!AD$15:AD$1048576) ) -> -3227.5634
B19: Cost of Platform | D19: =IF(LEN('Retail Media Investment Case'!I9)=0, "", SUMIF('Retail Media Investment Case'!E$15:E$1048576, 'Retail Media Investment Case'!I9, 'Retail Media Investment Case'!AE$15:AE$1048576) ) -> -16137.817
B20: Total Operating Cost | D20: =SUM(D16:E19) -> -31379.088
B21: Software Setup & Integrations | D21: =IF(LEN('Retail Media Investment Case'!I9)=0, "", SUMIF('Retail Media Investment Case'!E$15:E$1048576, 'Retail Media Investment Case'!I9, 'Retail Media Investment Case'!AI$15:AI$1048576) ) -> 0
B22: Cloud & Processing Costs | D22: =IF(LEN('Retail Media Investment Case'!I9)=0, "", SUMIF('Retail Media Investment Case'!E$15:E$1048576, 'Retail Media Investment Case'!I9, 'Retail Media Investment Case'!AJ$15:AJ$1048576) ) -> -55161.416
B23: FTE Consumption: Commercial | D23: =IF(LEN('Retail Media Investment Case'!I9)=0, "", SUMIF('Retail Media Investment Case'!E$15:E$1048576, 'Retail Media Investment Case'!I9, 'Retail Media Investment Case'!AK$15:AK$1048576) ) -> 0
B24: FTE Consumption: Marketing | D24: =IF(LEN('Retail Media Investment Case'!I9)=0, "", SUMIF('Retail Media Investment Case'!E$15:E$1048576, 'Retail Media Investment Case'!I9, 'Retail Media Investment Case'!AL$15:AL$1048576) ) -> 0
B25: FTE Consumptions: IT & Digital | D25: =IF(LEN('Retail Media Investment Case'!I9)=0, "", SUMIF('Retail Media Investment Case'!E$15:E$1048576, 'Retail Media Investment Case'!I9, 'Retail Media Investment Case'!AM$15:AM$1048576) ) -> 0
B26: CAPEX Investments | D26: =IF(LEN('Retail Media Investment Case'!I9)=0, "", SUMIF('Retail Media Investment Case'!E$15:E$1048576, 'Retail Media Investment Case'!I9, 'Retail Media Investment Case'!AN$15:AN$1048576) ) -> 0
B27: Total Cost Including Setup & Cloud | D27: =SUM(D21:E26) -> -55161.416
B29: Operating Profit - 2026 | D29: =D13+D20 -> 40344.542

Sheet 2028 – Forecast store_name
B1: ="Retail Media Forecast " & Variables!B2 & " - 2028" -> Retail Media Forecast {store_name} - 2028
B4: Total Retail Media Impressions
B5: In-Store | C5: Digital Screens & Radio | E5: =IF(LEN('Retail Media Investment Case'!J9)=0, "", SUMIF('Retail Media Investment Case'!E$15:E$1048576, 'Retail Media Investment Case'!J9, 'Retail Media Investment Case'!I$15:I$1048576) ) -> 10978550
B6: On-Site | C6: Website & Mobile App | E6: =IF(LEN('Retail Media Investment Case'!J9)=0, "", SUMIF('Retail Media Investment Case'!E$15:E$1048576, 'Retail Media Investment Case'!J9, 'Retail Media Investment Case'!J$15:J$1048576) ) -> 94186.71
B7: Off-Site | C7: Social Media & Direct Comms | E7: =IF(LEN('Retail Media Investment Case'!J9)=0, "", SUMIF('Retail Media Investment Case'!E$15:E$1048576, 'Retail Media Investment Case'!J9, 'Retail Media Investment Case'!K$15:K$1048576) ) -> 20094277
B9: Forecasted Retail Media Sales
B10: In-Store | C10: =IF(LEN('Retail Media Investment Case'!J9)=0, "", SUMIF('Retail Media Investment Case'!E$15:E$1048576, 'Retail Media Investment Case'!J9, 'Retail Media Investment Case'!V$15:V$1048576) ) -> 60705.99
B11: On-Site | C11: =IF(LEN('Retail Media Investment Case'!J9)=0, "", SUMIF('Retail Media Investment Case'!E$15:E$1048576, 'Retail Media Investment Case'!J9, 'Retail Media Investment Case'!W$15:W$1048576) ) -> 390.6047
B12: Off-Site | C12: =IF(LEN('Retail Media Investment Case'!J9)=0, "", SUMIF('Retail Media Investment Case'!E$15:E$1048576, 'Retail Media Investment Case'!J9, 'Retail Media Investment Case'!X$15:X$1048576) ) -> 55555.743
B13: Total Forecasted Media Sales | D13: =SUM(C10:E12) -> 116652.34
B15: Costs (€)
B16: Commisions to Media Agencies | D16: =IF(LEN('Retail Media Investment Case'!J9)=0, "", SUMIF('Retail Media Investment Case'!E$15:E$1048576, 'Retail Media Investment Case'!J9, 'Retail Media Investment Case'!AB$15:AB$1048576) ) -> -11665.234
B17: Cost of Sales | D17: =IF(LEN('Retail Media Investment Case'!J9)=0, "", SUMIF('Retail Media Investment Case'!E$15:E$1048576, 'Retail Media Investment Case'!J9, 'Retail Media Investment Case'!AC$15:AC$1048576) ) -> -7874.0328
B18: Cost of Campaign Management | D18: =IF(LEN('Retail Media Investment Case'!J9)=0, "", SUMIF('Retail Media Investment Case'!E$15:E$1048576, 'Retail Media Investment Case'!J9, 'Retail Media Investment Case'!AD$15:AD$1048576) ) -> -5249.3552
B19: Cost of Platform | D19: =IF(LEN('Retail Media Investment Case'!J9)=0, "", SUMIF('Retail Media Investment Case'!E$15:E$1048576, 'Retail Media Investment Case'!J9, 'Retail Media Investment Case'!AE$15:AE$1048576) ) -> -26246.776
B20: Total Operating Cost | D20: =SUM(D16:E19) -> -51035.398
B21: Software Setup & Integrations | D21: =IF(LEN('Retail Media Investment Case'!J9)=0, "", SUMIF('Retail Media Investment Case'!E$15:E$1048576, 'Retail Media Investment Case'!J9, 'Retail Media Investment Case'!AI$15:AI$1048576) ) -> 0
B22: Cloud & Processing Costs | D22: =IF(LEN('Retail Media Investment Case'!J9)=0, "", SUMIF('Retail Media Investment Case'!E$15:E$1048576, 'Retail Media Investment Case'!J9, 'Retail Media Investment Case'!AJ$15:AJ$1048576) ) -> -83352.687
B23: FTE Consumption: Commercial | D23: =IF(LEN('Retail Media Investment Case'!J9)=0, "", SUMIF('Retail Media Investment Case'!E$15:E$1048576, 'Retail Media Investment Case'!J9, 'Retail Media Investment Case'!AK$15:AK$1048576) ) -> 0
B24: FTE Consumption: Marketing | D24: =IF(LEN('Retail Media Investment Case'!J9)=0, "", SUMIF('Retail Media Investment Case'!E$15:E$1048576, 'Retail Media Investment Case'!J9, 'Retail Media Investment Case'!AL$15:AL$1048576) ) -> 0
B25: FTE Consumptions: IT & Digital | D25: =IF(LEN('Retail Media Investment Case'!J9)=0, "", SUMIF('Retail Media Investment Case'!E$15:E$1048576, 'Retail Media Investment Case'!J9, 'Retail Media Investment Case'!AM$15:AM$1048576) ) -> 0
B26: CAPEX Investments | D26: =IF(LEN('Retail Media Investment Case'!J9)=0, "", SUMIF('Retail Media Investment Case'!E$15:E$1048576, 'Retail Media Investment Case'!J9, 'Retail Media Investment Case'!AN$15:AN$1048576) ) -> 0
B27: Total Cost Including Setup & Cloud | D27: =SUM(D21:E26) -> -83352.687
B29: Operating Profit - 2026 | D29: =D13+D20 -> 65616.94

Sheet 2029 – Forecast store_name
B1: ="Retail Media Forecast " & Variables!B2 & " - 2029" -> Retail Media Forecast {store_name} - 2029
B4: Total Retail Media Impressions
B5: In-Store | C5: Digital Screens & Radio | E5: =IF(LEN('Retail Media Investment Case'!K9)=0, "", SUMIF('Retail Media Investment Case'!E$15:E$1048576, 'Retail Media Investment Case'!K9, 'Retail Media Investment Case'!I$15:I$1048576) )
B6: On-Site | C6: Website & Mobile App | E6: =IF(LEN('Retail Media Investment Case'!K9)=0, "", SUMIF('Retail Media Investment Case'!E$15:E$1048576, 'Retail Media Investment Case'!K9, 'Retail Media Investment Case'!J$15:J$1048576) )
B7: Off-Site | C7: Social Media & Direct Comms | E7: =IF(LEN('Retail Media Investment Case'!K9)=0, "", SUMIF('Retail Media Investment Case'!E$15:E$1048576, 'Retail Media Investment Case'!K9, 'Retail Media Investment Case'!K$15:K$1048576) )
B9: Forecasted Retail Media Sales
B10: In-Store | C10: =IF(LEN('Retail Media Investment Case'!K9)=0, "", SUMIF('Retail Media Investment Case'!E$15:E$1048576, 'Retail Media Investment Case'!K9, 'Retail Media Investment Case'!V$15:V$1048576) )
B11: On-Site | C11: =IF(LEN('Retail Media Investment Case'!K9)=0, "", SUMIF('Retail Media Investment Case'!E$15:E$1048576, 'Retail Media Investment Case'!K9, 'Retail Media Investment Case'!W$15:W$1048576) )
B12: Off-Site | C12: =IF(LEN('Retail Media Investment Case'!K9)=0, "", SUMIF('Retail Media Investment Case'!E$15:E$1048576, 'Retail Media Investment Case'!K9, 'Retail Media Investment Case'!X$15:X$1048576) )
B13: Total Forecasted Media Sales | D13: =SUM(C10:E12) -> 0
B15: Costs (€)
B16: Commisions to Media Agencies | D16: =IF(LEN('Retail Media Investment Case'!K9)=0, "", SUMIF('Retail Media Investment Case'!E$15:E$1048576, 'Retail Media Investment Case'!K9, 'Retail Media Investment Case'!AB$15:AB$1048576) )
B17: Cost of Sales | D17: =IF(LEN('Retail Media Investment Case'!K9)=0, "", SUMIF('Retail Media Investment Case'!E$15:E$1048576, 'Retail Media Investment Case'!K9, 'Retail Media Investment Case'!AC$15:AC$1048576) )
B18: Cost of Campaign Management | D18: =IF(LEN('Retail Media Investment Case'!K9)=0, "", SUMIF('Retail Media Investment Case'!E$15:E$1048576, 'Retail Media Investment Case'!K9, 'Retail Media Investment Case'!AD$15:AD$1048576) )
B19: Cost of Platform | D19: =IF(LEN('Retail Media Investment Case'!K9)=0, "", SUMIF('Retail Media Investment Case'!E$15:E$1048576, 'Retail Media Investment Case'!K9, 'Retail Media Investment Case'!AE$15:AE$1048576) )
B20: Total Operating Cost | D20: =SUM(D16:E19) -> 0
B21: Software Setup & Integrations | D21: =IF(LEN('Retail Media Investment Case'!K9)=0, "", SUMIF('Retail Media Investment Case'!E$15:E$1048576, 'Retail Media Investment Case'!K9, 'Retail Media Investment Case'!AI$15:AI$1048576) )
B22: Cloud & Processing Costs | D22: =IF(LEN('Retail Media Investment Case'!K9)=0, "", SUMIF('Retail Media Investment Case'!E$15:E$1048576, 'Retail Media Investment Case'!K9, 'Retail Media Investment Case'!AJ$15:AJ$1048576) )
B23: FTE Consumption: Commercial | D23: =IF(LEN('Retail Media Investment Case'!K9)=0, "", SUMIF('Retail Media Investment Case'!E$15:E$1048576, 'Retail Media Investment Case'!K9, 'Retail Media Investment Case'!AK$15:AK$1048576) )
B24: FTE Consumption: Marketing | D24: =IF(LEN('Retail Media Investment Case'!K9)=0, "", SUMIF('Retail Media Investment Case'!E$15:E$1048576, 'Retail Media Investment Case'!K9, 'Retail Media Investment Case'!AL$15:AL$1048576) )
B25: FTE Consumptions: IT & Digital | D25: =IF(LEN('Retail Media Investment Case'!K9)=0, "", SUMIF('Retail Media Investment Case'!E$15:E$1048576, 'Retail Media Investment Case'!K9, 'Retail Media Investment Case'!AM$15:AM$1048576) )
B26: CAPEX Investments | D26: =IF(LEN('Retail Media Investment Case'!K9)=0, "", SUMIF('Retail Media Investment Case'!E$15:E$1048576, 'Retail Media Investment Case'!K9, 'Retail Media Investment Case'!AN$15:AN$1048576) )
B27: Total Cost Including Setup & Cloud | D27: =SUM(D21:E26) -> 0
B29: Operating Profit - 2026 | D29: =D13+D20 -> 0

Sheet Graphics
B2: Share of Media Impressions over 3 years | H2: =IF(LEN('Retail Media Investment Case'!G9)=0, "",'Retail Media Investment Case'!G9) | N2: =IF(LEN('Retail Media Investment Case'!H9)=0, "",'Retail Media Investment Case'!H9) -> 2026 | T2: =IF(LEN('Retail Media Investment Case'!I9)=0, "",'Retail Media Investment Case'!I9) -> 2027 | Z2: =IF(LEN('Retail Media Investment Case'!J9)=0,"",'Retail Media Investment Case'!J9) -> 2028 | AF2: =IF(LEN('Retail Media Investment Case'!K9)=0,"",'Retail Media Investment Case'!K9)
